BEGIN:VCALENDAR
VERSION:2.0
PRODID:-//NADI Kg Keruak - ECPv6.15.13.1//NONSGML v1.0//EN
CALSCALE:GREGORIAN
METHOD:PUBLISH
X-ORIGINAL-URL:https://kgkeruak.nadi.my
X-WR-CALDESC:Events for NADI Kg Keruak
REFRESH-INTERVAL;VALUE=DURATION:PT1H
X-Robots-Tag:noindex
X-PUBLISHED-TTL:PT1H
BEGIN:VTIMEZONE
TZID:UTC
BEGIN:STANDARD
TZOFFSETFROM:+0000
TZOFFSETTO:+0000
TZNAME:UTC
DTSTART:20220101T000000
END:STANDARD
END:VTIMEZONE
BEGIN:VEVENT
DTSTART;TZID=UTC:20240222T093000
DTEND;TZID=UTC:20240222T103000
DTSTAMP:20260420T095210
CREATED:20240215T235510Z
LAST-MODIFIED:20240215T235510Z
UID:6362-1708594200-1708597800@kgkeruak.nadi.my
SUMMARY:KELAS ICT
DESCRIPTION:
URL:https://kgkeruak.nadi.my/event/kelas-ict-2/
CATEGORIES:DEFAULT
END:VEVENT
BEGIN:VEVENT
DTSTART;TZID=UTC:20240218T093000
DTEND;TZID=UTC:20240218T103000
DTSTAMP:20260420T095210
CREATED:20240215T235346Z
LAST-MODIFIED:20240215T235346Z
UID:6361-1708248600-1708252200@kgkeruak.nadi.my
SUMMARY:MICROSOFT WORD
DESCRIPTION:
URL:https://kgkeruak.nadi.my/event/microsoft-word-16/
CATEGORIES:DEFAULT
END:VEVENT
BEGIN:VEVENT
DTSTART;TZID=UTC:20240216T103000
DTEND;TZID=UTC:20240216T113000
DTSTAMP:20260420T095210
CREATED:20240215T234326Z
LAST-MODIFIED:20240215T234326Z
UID:6360-1708079400-1708083000@kgkeruak.nadi.my
SUMMARY:E-TUISYEN
DESCRIPTION:
URL:https://kgkeruak.nadi.my/event/e-tuisyen-64/
CATEGORIES:DEFAULT
END:VEVENT
BEGIN:VEVENT
DTSTART;TZID=UTC:20240209T100000
DTEND;TZID=UTC:20240209T110000
DTSTAMP:20260420T095210
CREATED:20240201T231809Z
LAST-MODIFIED:20240201T231809Z
UID:6357-1707472800-1707476400@kgkeruak.nadi.my
SUMMARY:KELAS STEM
DESCRIPTION:
URL:https://kgkeruak.nadi.my/event/kelas-stem-8/
CATEGORIES:DEFAULT
END:VEVENT
BEGIN:VEVENT
DTSTART;TZID=UTC:20240205T093000
DTEND;TZID=UTC:20240205T103000
DTSTAMP:20260420T095210
CREATED:20240201T231740Z
LAST-MODIFIED:20240201T231740Z
UID:6356-1707125400-1707129000@kgkeruak.nadi.my
SUMMARY:KELAS SOFT SKILLS
DESCRIPTION:
URL:https://kgkeruak.nadi.my/event/kelas-soft-skills-3/
CATEGORIES:DEFAULT
END:VEVENT
BEGIN:VEVENT
DTSTART;TZID=UTC:20240204T093000
DTEND;TZID=UTC:20240204T103000
DTSTAMP:20260420T095210
CREATED:20240201T231704Z
LAST-MODIFIED:20240201T231704Z
UID:6355-1707039000-1707042600@kgkeruak.nadi.my
SUMMARY:LATIHAN KEUSAHAWANAN
DESCRIPTION:
URL:https://kgkeruak.nadi.my/event/latihan-keusahawanan-18/
CATEGORIES:DEFAULT
END:VEVENT
BEGIN:VEVENT
DTSTART;TZID=UTC:20240202T104500
DTEND;TZID=UTC:20240202T114500
DTSTAMP:20260420T095210
CREATED:20240201T231921Z
LAST-MODIFIED:20240201T231921Z
UID:6358-1706870700-1706874300@kgkeruak.nadi.my
SUMMARY:E-TUISYEN
DESCRIPTION:
URL:https://kgkeruak.nadi.my/event/e-tuisyen-62/
CATEGORIES:DEFAULT
END:VEVENT
BEGIN:VEVENT
DTSTART;TZID=UTC:20240202T103000
DTEND;TZID=UTC:20240202T113000
DTSTAMP:20260420T095210
CREATED:20240215T233540Z
LAST-MODIFIED:20240215T233540Z
UID:6359-1706869800-1706873400@kgkeruak.nadi.my
SUMMARY:E-TUISYEN
DESCRIPTION:
URL:https://kgkeruak.nadi.my/event/e-tuisyen-63/
CATEGORIES:DEFAULT
END:VEVENT
BEGIN:VEVENT
DTSTART;TZID=UTC:20240201T093000
DTEND;TZID=UTC:20240201T170000
DTSTAMP:20260420T095210
CREATED:20240201T231617Z
LAST-MODIFIED:20240201T231617Z
UID:6354-1706779800-1706806800@kgkeruak.nadi.my
SUMMARY:PENGISIAN YPK MAIDAM
DESCRIPTION:
URL:https://kgkeruak.nadi.my/event/pengisian-ypk-maidam/
CATEGORIES:DEFAULT
END:VEVENT
BEGIN:VEVENT
DTSTART;TZID=UTC:20240123T153000
DTEND;TZID=UTC:20240123T163000
DTSTAMP:20260420T095210
CREATED:20231231T180554Z
LAST-MODIFIED:20231231T180554Z
UID:6353-1706023800-1706027400@kgkeruak.nadi.my
SUMMARY:KELAS STEM
DESCRIPTION:
URL:https://kgkeruak.nadi.my/event/kelas-stem-7/
CATEGORIES:DEFAULT
END:VEVENT
BEGIN:VEVENT
DTSTART;TZID=UTC:20240116T153000
DTEND;TZID=UTC:20240116T163000
DTSTAMP:20260420T095210
CREATED:20231231T180554Z
LAST-MODIFIED:20231231T180554Z
UID:6352-1705419000-1705422600@kgkeruak.nadi.my
SUMMARY:KELAS STEM
DESCRIPTION:
URL:https://kgkeruak.nadi.my/event/kelas-stem-6/
CATEGORIES:DEFAULT
END:VEVENT
BEGIN:VEVENT
DTSTART;TZID=UTC:20240114T093000
DTEND;TZID=UTC:20240114T110000
DTSTAMP:20260420T095210
CREATED:20231231T180401Z
LAST-MODIFIED:20231231T180401Z
UID:6350-1705224600-1705230000@kgkeruak.nadi.my
SUMMARY:SOFT SKILLS
DESCRIPTION:
URL:https://kgkeruak.nadi.my/event/soft-skills/
CATEGORIES:DEFAULT
END:VEVENT
BEGIN:VEVENT
DTSTART;TZID=UTC:20240109T153000
DTEND;TZID=UTC:20240109T163000
DTSTAMP:20260420T095210
CREATED:20231231T180554Z
LAST-MODIFIED:20231231T180554Z
UID:6351-1704814200-1704817800@kgkeruak.nadi.my
SUMMARY:KELAS STEM
DESCRIPTION:
URL:https://kgkeruak.nadi.my/event/kelas-stem-5/
CATEGORIES:DEFAULT
END:VEVENT
BEGIN:VEVENT
DTSTART;TZID=UTC:20240106T093000
DTEND;TZID=UTC:20240106T110000
DTSTAMP:20260420T095210
CREATED:20231231T180157Z
LAST-MODIFIED:20231231T180157Z
UID:6349-1704533400-1704538800@kgkeruak.nadi.my
SUMMARY:KELAS E-LEARNING
DESCRIPTION:
URL:https://kgkeruak.nadi.my/event/kelas-e-learning-2/
CATEGORIES:DEFAULT
END:VEVENT
BEGIN:VEVENT
DTSTART;TZID=UTC:20240103T143000
DTEND;TZID=UTC:20240103T153000
DTSTAMP:20260420T095210
CREATED:20231231T180033Z
LAST-MODIFIED:20231231T180033Z
UID:6348-1704292200-1704295800@kgkeruak.nadi.my
SUMMARY:KELAS ICT
DESCRIPTION:
URL:https://kgkeruak.nadi.my/event/kelas-ict/
CATEGORIES:DEFAULT
END:VEVENT
BEGIN:VEVENT
DTSTART;TZID=UTC:20231229T100000
DTEND;TZID=UTC:20231229T110000
DTSTAMP:20260420T095210
CREATED:20231203T171153Z
LAST-MODIFIED:20231203T171153Z
UID:6344-1703844000-1703847600@kgkeruak.nadi.my
SUMMARY:E-TUISYEN
DESCRIPTION:
URL:https://kgkeruak.nadi.my/event/e-tuisyen-61/
CATEGORIES:DEFAULT
END:VEVENT
BEGIN:VEVENT
DTSTART;TZID=UTC:20231222T100000
DTEND;TZID=UTC:20231222T110000
DTSTAMP:20260420T095210
CREATED:20231203T171153Z
LAST-MODIFIED:20231203T171153Z
UID:6343-1703239200-1703242800@kgkeruak.nadi.my
SUMMARY:E-TUISYEN
DESCRIPTION:
URL:https://kgkeruak.nadi.my/event/e-tuisyen-60/
CATEGORIES:DEFAULT
END:VEVENT
BEGIN:VEVENT
DTSTART;TZID=UTC:20231219T093000
DTEND;TZID=UTC:20231219T103000
DTSTAMP:20260420T095210
CREATED:20231203T171422Z
LAST-MODIFIED:20231203T171422Z
UID:6347-1702978200-1702981800@kgkeruak.nadi.my
SUMMARY:KELAS SOFT SKILLS
DESCRIPTION:
URL:https://kgkeruak.nadi.my/event/kelas-soft-skills-2/
CATEGORIES:DEFAULT
END:VEVENT
BEGIN:VEVENT
DTSTART;TZID=UTC:20231217T093000
DTEND;TZID=UTC:20231217T103000
DTSTAMP:20260420T095210
CREATED:20231203T171344Z
LAST-MODIFIED:20231203T171344Z
UID:6346-1702805400-1702809000@kgkeruak.nadi.my
SUMMARY:KELAS SOFT SKILLS
DESCRIPTION:
URL:https://kgkeruak.nadi.my/event/kelas-soft-skills/
CATEGORIES:DEFAULT
END:VEVENT
BEGIN:VEVENT
DTSTART;TZID=UTC:20231215T100000
DTEND;TZID=UTC:20231215T110000
DTSTAMP:20260420T095210
CREATED:20231203T171153Z
LAST-MODIFIED:20231203T171153Z
UID:6342-1702634400-1702638000@kgkeruak.nadi.my
SUMMARY:E-TUISYEN
DESCRIPTION:
URL:https://kgkeruak.nadi.my/event/e-tuisyen-59/
CATEGORIES:DEFAULT
END:VEVENT
BEGIN:VEVENT
DTSTART;TZID=UTC:20231209T100000
DTEND;TZID=UTC:20231209T120000
DTSTAMP:20260420T095210
CREATED:20231203T171251Z
LAST-MODIFIED:20231203T171251Z
UID:6345-1702116000-1702123200@kgkeruak.nadi.my
SUMMARY:KELAS STEM
DESCRIPTION:
URL:https://kgkeruak.nadi.my/event/kelas-stem-4/
CATEGORIES:DEFAULT
END:VEVENT
BEGIN:VEVENT
DTSTART;TZID=UTC:20231208T100000
DTEND;TZID=UTC:20231208T110000
DTSTAMP:20260420T095210
CREATED:20231203T171153Z
LAST-MODIFIED:20231203T171153Z
UID:6341-1702029600-1702033200@kgkeruak.nadi.my
SUMMARY:E-TUISYEN
DESCRIPTION:
URL:https://kgkeruak.nadi.my/event/e-tuisyen-58/
CATEGORIES:DEFAULT
END:VEVENT
BEGIN:VEVENT
DTSTART;TZID=UTC:20231207T100000
DTEND;TZID=UTC:20231207T110000
DTSTAMP:20260420T095210
CREATED:20231203T171053Z
LAST-MODIFIED:20231203T171053Z
UID:6340-1701943200-1701946800@kgkeruak.nadi.my
SUMMARY:LATIHAN KEUSAHAWANAN
DESCRIPTION:
URL:https://kgkeruak.nadi.my/event/latihan-keusahawanan-17/
CATEGORIES:DEFAULT
END:VEVENT
BEGIN:VEVENT
DTSTART;TZID=UTC:20231205T100000
DTEND;TZID=UTC:20231205T110000
DTSTAMP:20260420T095210
CREATED:20231203T171003Z
LAST-MODIFIED:20231203T171003Z
UID:6339-1701770400-1701774000@kgkeruak.nadi.my
SUMMARY:KELAS MICROSOFT WORD
DESCRIPTION:
URL:https://kgkeruak.nadi.my/event/kelas-microsoft-word-4/
CATEGORIES:DEFAULT
END:VEVENT
BEGIN:VEVENT
DTSTART;TZID=UTC:20231203T093000
DTEND;TZID=UTC:20231203T103000
DTSTAMP:20260420T095210
CREATED:20231203T170856Z
LAST-MODIFIED:20231203T170856Z
UID:6338-1701595800-1701599400@kgkeruak.nadi.my
SUMMARY:KELAS POWER POINT
DESCRIPTION:
URL:https://kgkeruak.nadi.my/event/kelas-power-point-2/
CATEGORIES:DEFAULT
END:VEVENT
BEGIN:VEVENT
DTSTART;TZID=UTC:20231124T093000
DTEND;TZID=UTC:20231124T110000
DTSTAMP:20260420T095210
CREATED:20231104T191044Z
LAST-MODIFIED:20231104T191044Z
UID:6337-1700818200-1700823600@kgkeruak.nadi.my
SUMMARY:TIPS PENGURUSAN SUMBER MANUSIA BAGI IKS
DESCRIPTION:
URL:https://kgkeruak.nadi.my/event/tips-pengurusan-sumber-manusia-bagi-iks-2/
CATEGORIES:DEFAULT
END:VEVENT
BEGIN:VEVENT
DTSTART;TZID=UTC:20231122T103000
DTEND;TZID=UTC:20231122T113000
DTSTAMP:20260420T095210
CREATED:20231104T190924Z
LAST-MODIFIED:20231104T190924Z
UID:6336-1700649000-1700652600@kgkeruak.nadi.my
SUMMARY:KELAS MICROSOFT WORD
DESCRIPTION:
URL:https://kgkeruak.nadi.my/event/kelas-microsoft-word-3/
CATEGORIES:DEFAULT
END:VEVENT
BEGIN:VEVENT
DTSTART;TZID=UTC:20231121T093000
DTEND;TZID=UTC:20231121T223000
DTSTAMP:20260420T095210
CREATED:20231104T190809Z
LAST-MODIFIED:20231104T190809Z
UID:6335-1700559000-1700605800@kgkeruak.nadi.my
SUMMARY:KELAS POWER POINT
DESCRIPTION:
URL:https://kgkeruak.nadi.my/event/kelas-power-point/
CATEGORIES:DEFAULT
END:VEVENT
BEGIN:VEVENT
DTSTART;TZID=UTC:20231118T104500
DTEND;TZID=UTC:20231118T114500
DTSTAMP:20260420T095210
CREATED:20231104T190711Z
LAST-MODIFIED:20231104T190711Z
UID:6334-1700304300-1700307900@kgkeruak.nadi.my
SUMMARY:E-TUISYEN
DESCRIPTION:
URL:https://kgkeruak.nadi.my/event/e-tuisyen-57/
CATEGORIES:DEFAULT
END:VEVENT
BEGIN:VEVENT
DTSTART;TZID=UTC:20231117T093000
DTEND;TZID=UTC:20231117T103000
DTSTAMP:20260420T095210
CREATED:20231104T190551Z
LAST-MODIFIED:20231104T190551Z
UID:6333-1700213400-1700217000@kgkeruak.nadi.my
SUMMARY:PENGURUSAN KEWANGAN IKS
DESCRIPTION:
URL:https://kgkeruak.nadi.my/event/pengurusan-kewangan-iks-2/
CATEGORIES:DEFAULT
END:VEVENT
END:VCALENDAR