BEGIN:VCALENDAR
VERSION:2.0
PRODID:-//NADI Kg Keruak - ECPv6.15.13.1//NONSGML v1.0//EN
CALSCALE:GREGORIAN
METHOD:PUBLISH
X-WR-CALNAME:NADI Kg Keruak
X-ORIGINAL-URL:https://kgkeruak.nadi.my
X-WR-CALDESC:Events for NADI Kg Keruak
REFRESH-INTERVAL;VALUE=DURATION:PT1H
X-Robots-Tag:noindex
X-PUBLISHED-TTL:PT1H
BEGIN:VTIMEZONE
TZID:UTC
BEGIN:STANDARD
TZOFFSETFROM:+0000
TZOFFSETTO:+0000
TZNAME:UTC
DTSTART:20220101T000000
END:STANDARD
END:VTIMEZONE
BEGIN:VEVENT
DTSTART;TZID=UTC:20230817T110000
DTEND;TZID=UTC:20230817T120000
DTSTAMP:20260420T153955
CREATED:20230803T230750Z
LAST-MODIFIED:20230803T230750Z
UID:6291-1692270000-1692273600@kgkeruak.nadi.my
SUMMARY:PENGURUSAN KEWANGAN PERNIAGAAN
DESCRIPTION:
URL:https://kgkeruak.nadi.my/event/pengurusan-kewangan-perniagaan/
CATEGORIES:DEFAULT
END:VEVENT
BEGIN:VEVENT
DTSTART;TZID=UTC:20230816T100000
DTEND;TZID=UTC:20230816T110000
DTSTAMP:20260420T153955
CREATED:20230803T230711Z
LAST-MODIFIED:20230803T230711Z
UID:6290-1692180000-1692183600@kgkeruak.nadi.my
SUMMARY:INTERVIEW SKILLS
DESCRIPTION:
URL:https://kgkeruak.nadi.my/event/interview-skills-2/
CATEGORIES:DEFAULT
END:VEVENT
BEGIN:VEVENT
DTSTART;TZID=UTC:20230815T110000
DTEND;TZID=UTC:20230815T120000
DTSTAMP:20260420T153955
CREATED:20230803T230639Z
LAST-MODIFIED:20230803T230639Z
UID:6289-1692097200-1692100800@kgkeruak.nadi.my
SUMMARY:BUSINESS ETIQUETTE AND PERSONAL GROOMING
DESCRIPTION:
URL:https://kgkeruak.nadi.my/event/business-etiquette-and-personal-grooming-2/
CATEGORIES:DEFAULT
END:VEVENT
BEGIN:VEVENT
DTSTART;TZID=UTC:20230811T093000
DTEND;TZID=UTC:20230811T103000
DTSTAMP:20260420T153955
CREATED:20230803T230422Z
LAST-MODIFIED:20230803T230422Z
UID:6288-1691746200-1691749800@kgkeruak.nadi.my
SUMMARY:RAPID TYPING
DESCRIPTION:
URL:https://kgkeruak.nadi.my/event/rapid-typing-4/
CATEGORIES:DEFAULT
END:VEVENT
BEGIN:VEVENT
DTSTART;TZID=UTC:20230810T100000
DTEND;TZID=UTC:20230810T110000
DTSTAMP:20260420T153955
CREATED:20230803T230348Z
LAST-MODIFIED:20230803T230348Z
UID:6287-1691661600-1691665200@kgkeruak.nadi.my
SUMMARY:MICROSOFT BERSAMA MALAYSIA INITIATIVE
DESCRIPTION:
URL:https://kgkeruak.nadi.my/event/microsoft-bersama-malaysia-initiative/
CATEGORIES:DEFAULT
END:VEVENT
BEGIN:VEVENT
DTSTART;TZID=UTC:20230809T110000
DTEND;TZID=UTC:20230809T120000
DTSTAMP:20260420T153955
CREATED:20230803T230235Z
LAST-MODIFIED:20230803T230235Z
UID:6286-1691578800-1691582400@kgkeruak.nadi.my
SUMMARY:SMART FARMING
DESCRIPTION:
URL:https://kgkeruak.nadi.my/event/smart-farming/
CATEGORIES:DEFAULT
END:VEVENT
BEGIN:VEVENT
DTSTART;TZID=UTC:20230808T110000
DTEND;TZID=UTC:20230808T120000
DTSTAMP:20260420T153955
CREATED:20230803T230027Z
LAST-MODIFIED:20230803T230027Z
UID:6285-1691492400-1691496000@kgkeruak.nadi.my
SUMMARY:RESUME WRITING
DESCRIPTION:
URL:https://kgkeruak.nadi.my/event/resume-writing-3/
CATEGORIES:DEFAULT
END:VEVENT
BEGIN:VEVENT
DTSTART;TZID=UTC:20230807T110000
DTEND;TZID=UTC:20230807T120000
DTSTAMP:20260420T153955
CREATED:20230803T225950Z
LAST-MODIFIED:20230803T225950Z
UID:6284-1691406000-1691409600@kgkeruak.nadi.my
SUMMARY:PENGURUSAN SUMBER MANUSIA
DESCRIPTION:
URL:https://kgkeruak.nadi.my/event/pengurusan-sumber-manusia/
CATEGORIES:DEFAULT
END:VEVENT
BEGIN:VEVENT
DTSTART;TZID=UTC:20230805T153000
DTEND;TZID=UTC:20230805T163000
DTSTAMP:20260420T153955
CREATED:20230803T231043Z
LAST-MODIFIED:20230803T231043Z
UID:6295-1691249400-1691253000@kgkeruak.nadi.my
SUMMARY:E-TUISYEN
DESCRIPTION:
URL:https://kgkeruak.nadi.my/event/e-tuisyen-50/
CATEGORIES:DEFAULT
END:VEVENT
BEGIN:VEVENT
DTSTART;TZID=UTC:20230805T153000
DTEND;TZID=UTC:20230805T163000
DTSTAMP:20260420T153955
CREATED:20230803T225829Z
LAST-MODIFIED:20230803T225829Z
UID:6283-1691249400-1691253000@kgkeruak.nadi.my
SUMMARY:E-TUISYEN
DESCRIPTION:
URL:https://kgkeruak.nadi.my/event/e-tuisyen-49/
CATEGORIES:DEFAULT
END:VEVENT
BEGIN:VEVENT
DTSTART;TZID=UTC:20230804T093000
DTEND;TZID=UTC:20230804T123000
DTSTAMP:20260420T153955
CREATED:20230803T225654Z
LAST-MODIFIED:20230803T225654Z
UID:6282-1691141400-1691152200@kgkeruak.nadi.my
SUMMARY:MICROSOFT WORD
DESCRIPTION:
URL:https://kgkeruak.nadi.my/event/microsoft-word-11/
CATEGORIES:DEFAULT
END:VEVENT
BEGIN:VEVENT
DTSTART;TZID=UTC:20230727T100000
DTEND;TZID=UTC:20230727T110000
DTSTAMP:20260420T153955
CREATED:20230630T180527Z
LAST-MODIFIED:20230630T180527Z
UID:6280-1690452000-1690455600@kgkeruak.nadi.my
SUMMARY:TIPS PENGURUSAN SUMBER MANUSIA BAGI IKS
DESCRIPTION:
URL:https://kgkeruak.nadi.my/event/tips-pengurusan-sumber-manusia-bagi-iks/
CATEGORIES:DEFAULT
END:VEVENT
BEGIN:VEVENT
DTSTART;TZID=UTC:20230725T100000
DTEND;TZID=UTC:20230725T110000
DTSTAMP:20260420T153955
CREATED:20230630T180556Z
LAST-MODIFIED:20230630T180556Z
UID:6281-1690279200-1690282800@kgkeruak.nadi.my
SUMMARY:RESUME WRITING
DESCRIPTION:
URL:https://kgkeruak.nadi.my/event/resume-writing-2/
CATEGORIES:DEFAULT
END:VEVENT
BEGIN:VEVENT
DTSTART;TZID=UTC:20230722T093000
DTEND;TZID=UTC:20230722T103000
DTSTAMP:20260420T153955
CREATED:20230630T180446Z
LAST-MODIFIED:20230630T180446Z
UID:6279-1690018200-1690021800@kgkeruak.nadi.my
SUMMARY:E-TUISYEN
DESCRIPTION:
URL:https://kgkeruak.nadi.my/event/e-tuisyen-48/
CATEGORIES:DEFAULT
END:VEVENT
BEGIN:VEVENT
DTSTART;TZID=UTC:20230718T093000
DTEND;TZID=UTC:20230718T103000
DTSTAMP:20260420T153955
CREATED:20230630T180205Z
LAST-MODIFIED:20230630T180205Z
UID:6276-1689672600-1689676200@kgkeruak.nadi.my
SUMMARY:ENTERING THE JOB MARKET
DESCRIPTION:
URL:https://kgkeruak.nadi.my/event/entering-the-job-market/
CATEGORIES:DEFAULT
END:VEVENT
BEGIN:VEVENT
DTSTART;TZID=UTC:20230717T093000
DTEND;TZID=UTC:20230717T103000
DTSTAMP:20260420T153955
CREATED:20230630T180109Z
LAST-MODIFIED:20230630T180109Z
UID:6275-1689586200-1689589800@kgkeruak.nadi.my
SUMMARY:PENGURUSAN KEWANGAN IKS
DESCRIPTION:
URL:https://kgkeruak.nadi.my/event/pengurusan-kewangan-iks/
CATEGORIES:DEFAULT
END:VEVENT
BEGIN:VEVENT
DTSTART;TZID=UTC:20230715T093000
DTEND;TZID=UTC:20230715T103000
DTSTAMP:20260420T153955
CREATED:20230630T180411Z
LAST-MODIFIED:20230630T180411Z
UID:6278-1689413400-1689417000@kgkeruak.nadi.my
SUMMARY:E-TUISYEN
DESCRIPTION:
URL:https://kgkeruak.nadi.my/event/e-tuisyen-47/
CATEGORIES:DEFAULT
END:VEVENT
BEGIN:VEVENT
DTSTART;TZID=UTC:20230715T093000
DTEND;TZID=UTC:20230715T103000
DTSTAMP:20260420T153955
CREATED:20230630T180031Z
LAST-MODIFIED:20230630T180031Z
UID:6274-1689413400-1689417000@kgkeruak.nadi.my
SUMMARY:E-TUISYEN
DESCRIPTION:
URL:https://kgkeruak.nadi.my/event/e-tuisyen-46/
CATEGORIES:DEFAULT
END:VEVENT
BEGIN:VEVENT
DTSTART;TZID=UTC:20230714T093000
DTEND;TZID=UTC:20230714T103000
DTSTAMP:20260420T153955
CREATED:20230630T180333Z
LAST-MODIFIED:20230630T180333Z
UID:6277-1689327000-1689330600@kgkeruak.nadi.my
SUMMARY:E-LEARNING
DESCRIPTION:
URL:https://kgkeruak.nadi.my/event/e-learning-47/
CATEGORIES:DEFAULT
END:VEVENT
BEGIN:VEVENT
DTSTART;TZID=UTC:20230714T093000
DTEND;TZID=UTC:20230714T103000
DTSTAMP:20260420T153955
CREATED:20230630T180002Z
LAST-MODIFIED:20230630T180002Z
UID:6273-1689327000-1689330600@kgkeruak.nadi.my
SUMMARY:E-LEARNING
DESCRIPTION:
URL:https://kgkeruak.nadi.my/event/e-learning-46/
CATEGORIES:DEFAULT
END:VEVENT
BEGIN:VEVENT
DTSTART;TZID=UTC:20230712T093000
DTEND;TZID=UTC:20230713T103000
DTSTAMP:20260420T153955
CREATED:20230630T175740Z
LAST-MODIFIED:20230630T175740Z
UID:6272-1689154200-1689244200@kgkeruak.nadi.my
SUMMARY:MICROSOFT POWERPOINT
DESCRIPTION:
URL:https://kgkeruak.nadi.my/event/microsoft-powerpoint/
CATEGORIES:DEFAULT
END:VEVENT
BEGIN:VEVENT
DTSTART;TZID=UTC:20230711T100000
DTEND;TZID=UTC:20230711T110000
DTSTAMP:20260420T153955
CREATED:20230630T175620Z
LAST-MODIFIED:20230630T175620Z
UID:6271-1689069600-1689073200@kgkeruak.nadi.my
SUMMARY:ENTERING THE JOB MARKET ( INTERVIEW SKILL)
DESCRIPTION:
URL:https://kgkeruak.nadi.my/event/entering-the-job-market-interview-skill/
CATEGORIES:DEFAULT
END:VEVENT
BEGIN:VEVENT
DTSTART;TZID=UTC:20230708T093000
DTEND;TZID=UTC:20230708T103000
DTSTAMP:20260420T153955
CREATED:20230630T175523Z
LAST-MODIFIED:20230630T175523Z
UID:6270-1688808600-1688812200@kgkeruak.nadi.my
SUMMARY:E-TUISYEN
DESCRIPTION:
URL:https://kgkeruak.nadi.my/event/e-tuisyen-45/
CATEGORIES:DEFAULT
END:VEVENT
BEGIN:VEVENT
DTSTART;TZID=UTC:20230707T100000
DTEND;TZID=UTC:20230707T110000
DTSTAMP:20260420T153955
CREATED:20230630T175452Z
LAST-MODIFIED:20230630T175452Z
UID:6269-1688724000-1688727600@kgkeruak.nadi.my
SUMMARY:E-LEARNING
DESCRIPTION:
URL:https://kgkeruak.nadi.my/event/e-learning-45/
CATEGORIES:DEFAULT
END:VEVENT
BEGIN:VEVENT
DTSTART;TZID=UTC:20230706T100000
DTEND;TZID=UTC:20230706T110000
DTSTAMP:20260420T153955
CREATED:20230630T175423Z
LAST-MODIFIED:20230630T175423Z
UID:6268-1688637600-1688641200@kgkeruak.nadi.my
SUMMARY:MICROSOFT POWER POINT
DESCRIPTION:
URL:https://kgkeruak.nadi.my/event/microsoft-power-point/
CATEGORIES:DEFAULT
END:VEVENT
BEGIN:VEVENT
DTSTART;TZID=UTC:20230705T100000
DTEND;TZID=UTC:20230705T110000
DTSTAMP:20260420T153955
CREATED:20230630T175311Z
LAST-MODIFIED:20230630T175311Z
UID:6267-1688551200-1688554800@kgkeruak.nadi.my
SUMMARY:MODUL ASAS KEUSAHAWANAN ( MINDSET USAHAWAN)
DESCRIPTION:
URL:https://kgkeruak.nadi.my/event/modul-asas-keusahawanan-mindset-usahawan/
CATEGORIES:DEFAULT
END:VEVENT
BEGIN:VEVENT
DTSTART;TZID=UTC:20230704T093000
DTEND;TZID=UTC:20230704T103000
DTSTAMP:20260420T153955
CREATED:20230630T175215Z
LAST-MODIFIED:20230630T175215Z
UID:6266-1688463000-1688466600@kgkeruak.nadi.my
SUMMARY:MICROSOFT WORD
DESCRIPTION:
URL:https://kgkeruak.nadi.my/event/microsoft-word-10/
CATEGORIES:DEFAULT
END:VEVENT
BEGIN:VEVENT
DTSTART;TZID=UTC:20230623T110000
DTEND;TZID=UTC:20230623T120000
DTSTAMP:20260420T153955
CREATED:20230616T231718Z
LAST-MODIFIED:20230616T231718Z
UID:6265-1687518000-1687521600@kgkeruak.nadi.my
SUMMARY:MINDSET USAHAWAN
DESCRIPTION:
URL:https://kgkeruak.nadi.my/event/mindset-usahawan/
CATEGORIES:DEFAULT
END:VEVENT
BEGIN:VEVENT
DTSTART;TZID=UTC:20230623T093000
DTEND;TZID=UTC:20230623T223000
DTSTAMP:20260420T153955
CREATED:20230531T204611Z
LAST-MODIFIED:20230531T204611Z
UID:6259-1687512600-1687559400@kgkeruak.nadi.my
SUMMARY:E-LEARNING
DESCRIPTION:
URL:https://kgkeruak.nadi.my/event/e-learning-44/
CATEGORIES:DEFAULT
END:VEVENT
BEGIN:VEVENT
DTSTART;TZID=UTC:20230622T110000
DTEND;TZID=UTC:20230622T120000
DTSTAMP:20260420T153955
CREATED:20230616T231649Z
LAST-MODIFIED:20230616T231649Z
UID:6264-1687431600-1687435200@kgkeruak.nadi.my
SUMMARY:Interview Skills
DESCRIPTION:
URL:https://kgkeruak.nadi.my/event/interview-skills/
CATEGORIES:DEFAULT
END:VEVENT
END:VCALENDAR